Package: tidyomics Version: 1.3.0 Command: chmod a+r tidyomics -R && E:\biocbuild\bbs-3.21-bioc\R\bin\R.exe CMD build --keep-empty-dirs --no-resave-data tidyomics StartedAt: 2025-02-03 22:17:12 -0500 (Mon, 03 Feb 2025) EndedAt: 2025-02-03 22:18:00 -0500 (Mon, 03 Feb 2025) EllapsedTime: 47.8 seconds RetCode: 0 Status: OK PackageFile: tidyomics_1.3.0.tar.gz PackageFileSize: 55.5 KiB