Package: tidyomics Version: 1.3.0 Command: E:\biocbuild\bbs-3.21-bioc\R\bin\R.exe CMD INSTALL tidyomics StartedAt: 2025-02-09 16:33:40 -0500 (Sun, 09 Feb 2025) EndedAt: 2025-02-09 16:34:25 -0500 (Sun, 09 Feb 2025) EllapsedTime: 45.6 seconds RetCode: 0 Status: OK