Package: tigre Version: 1.61.0 Command: /home/biocbuild/R/R/bin/R CMD build --keep-empty-dirs --no-resave-data tigre StartedAt: 2025-01-28 02:55:43 -0000 (Tue, 28 Jan 2025) EndedAt: 2025-01-28 02:59:20 -0000 (Tue, 28 Jan 2025) EllapsedTime: 217.1 seconds RetCode: 0 Status: OK PackageFile: tigre_1.61.0.tar.gz PackageFileSize: 308.1 KiB