Package: tigre Version: 1.61.0 Command: /home/biocbuild/bbs-3.21-bioc/R/bin/R CMD INSTALL tigre StartedAt: 2025-02-12 15:26:46 -0500 (Wed, 12 Feb 2025) EndedAt: 2025-02-12 15:27:06 -0500 (Wed, 12 Feb 2025) EllapsedTime: 19.8 seconds RetCode: 0 Status: OK