Package: tigre Version: 1.61.0 Command: rm -rf tigre.buildbin-libdir && mkdir tigre.buildbin-libdir && E:\biocbuild\bbs-3.21-bioc\R\bin\R.exe CMD INSTALL --build --library=tigre.buildbin-libdir tigre_1.61.0.tar.gz StartedAt: 2025-02-10 08:52:15 -0500 (Mon, 10 Feb 2025) EndedAt: 2025-02-10 08:53:15 -0500 (Mon, 10 Feb 2025) EllapsedTime: 60.4 seconds RetCode: 0 Status: OK PackageFile: tigre_1.61.0.zip PackageFileSize: 987 KiB