Package: tigre Version: 1.61.0 Command: E:\biocbuild\bbs-3.21-bioc\R\bin\R.exe CMD check --no-multiarch --install=check:tigre.install-out.txt --library=E:\biocbuild\bbs-3.21-bioc\R\library --no-vignettes --timings tigre_1.61.0.tar.gz StartedAt: 2025-02-10 06:11:26 -0500 (Mon, 10 Feb 2025) EndedAt: 2025-02-10 06:11:31 -0500 (Mon, 10 Feb 2025) EllapsedTime: 4.9 seconds RetCode: 1 Status: ERROR CheckDir: tigre.Rcheck Warnings: NA