Package: tilingArray Version: 1.85.0 Command: rm -rf tilingArray.buildbin-libdir && mkdir tilingArray.buildbin-libdir && /Users/biocbuild/BBS/utils/build-universal.sh tilingArray_1.85.0.tar.gz /Library/Frameworks/R.framework/Resources/bin/R tilingArray.buildbin-libdir StartedAt: 2025-02-09 22:33:31 -0500 (Sun, 09 Feb 2025) EndedAt: 2025-02-09 22:33:42 -0500 (Sun, 09 Feb 2025) EllapsedTime: 11.2 seconds RetCode: 0 Status: OK PackageFile: tilingArray_1.85.0.tgz PackageFileSize: 3.881 MiB