Package: tilingArray Version: 1.85.0 Command: /Library/Frameworks/R.framework/Resources/bin/R CMD build --keep-empty-dirs --no-resave-data tilingArray StartedAt: 2025-02-03 18:25:11 -0500 (Mon, 03 Feb 2025) EndedAt: 2025-02-03 18:25:28 -0500 (Mon, 03 Feb 2025) EllapsedTime: 17.2 seconds RetCode: 0 Status: OK PackageFile: tilingArray_1.85.0.tar.gz PackageFileSize: 3.487 MiB