Package: tilingArray Version: 1.85.0 Command: /Library/Frameworks/R.framework/Resources/bin/R CMD INSTALL tilingArray StartedAt: 2025-02-09 15:19:50 -0500 (Sun, 09 Feb 2025) EndedAt: 2025-02-09 15:19:59 -0500 (Sun, 09 Feb 2025) EllapsedTime: 8.9 seconds RetCode: 0 Status: OK