Package: tilingArray Version: 1.85.0 Command: /home/biocbuild/R/R/bin/R CMD INSTALL tilingArray StartedAt: 2025-01-29 20:16:33 -0000 (Wed, 29 Jan 2025) EndedAt: 2025-01-29 20:17:06 -0000 (Wed, 29 Jan 2025) EllapsedTime: 33.4 seconds RetCode: 0 Status: OK