Package: tilingArray Version: 1.85.0 Command: /Library/Frameworks/R.framework/Resources/bin/R CMD build --keep-empty-dirs --no-resave-data tilingArray StartedAt: 2025-02-09 18:43:57 -0500 (Sun, 09 Feb 2025) EndedAt: 2025-02-09 18:44:42 -0500 (Sun, 09 Feb 2025) EllapsedTime: 44.6 seconds RetCode: 0 Status: OK PackageFile: tilingArray_1.85.0.tar.gz PackageFileSize: 3.485 MiB