Package: tilingArray Version: 1.85.0 Command: /Library/Frameworks/R.framework/Resources/bin/R CMD INSTALL tilingArray StartedAt: 2025-02-09 15:32:23 -0500 (Sun, 09 Feb 2025) EndedAt: 2025-02-09 15:32:56 -0500 (Sun, 09 Feb 2025) EllapsedTime: 32.5 seconds RetCode: 0 Status: OK