Package: tilingArray Version: 1.85.0 Command: /home/biocbuild/bbs-3.21-bioc/R/bin/R CMD build --keep-empty-dirs --no-resave-data tilingArray StartedAt: 2025-02-09 19:36:31 -0500 (Sun, 09 Feb 2025) EndedAt: 2025-02-09 19:37:07 -0500 (Sun, 09 Feb 2025) EllapsedTime: 36.0 seconds RetCode: 0 Status: OK PackageFile: tilingArray_1.85.0.tar.gz PackageFileSize: 3.486 MiB