Package: tilingArray Version: 1.85.0 Command: E:\biocbuild\bbs-3.21-bioc\R\bin\R.exe CMD check --no-multiarch --install=check:tilingArray.install-out.txt --library=E:\biocbuild\bbs-3.21-bioc\R\library --no-vignettes --timings tilingArray_1.85.0.tar.gz StartedAt: 2025-02-10 06:11:31 -0500 (Mon, 10 Feb 2025) EndedAt: 2025-02-10 06:14:24 -0500 (Mon, 10 Feb 2025) EllapsedTime: 173.9 seconds RetCode: 0 Status: OK CheckDir: tilingArray.Rcheck Warnings: 0