Package: tilingArray Version: 1.85.0 Command: E:\biocbuild\bbs-3.21-bioc\R\bin\R.exe CMD INSTALL tilingArray StartedAt: 2025-02-04 16:28:01 -0500 (Tue, 04 Feb 2025) EndedAt: 2025-02-04 16:28:57 -0500 (Tue, 04 Feb 2025) EllapsedTime: 56.2 seconds RetCode: 0 Status: OK