Package: timecourse Version: 1.79.0 Command: /Library/Frameworks/R.framework/Resources/bin/R CMD INSTALL timecourse StartedAt: 2025-02-12 15:02:45 -0500 (Wed, 12 Feb 2025) EndedAt: 2025-02-12 15:02:49 -0500 (Wed, 12 Feb 2025) EllapsedTime: 3.3 seconds RetCode: 0 Status: OK