Package: timecourse Version: 1.79.0 Command: /home/biocbuild/R/R/bin/R CMD INSTALL timecourse StartedAt: 2025-01-29 19:34:26 -0000 (Wed, 29 Jan 2025) EndedAt: 2025-01-29 19:34:39 -0000 (Wed, 29 Jan 2025) EllapsedTime: 13.0 seconds RetCode: 0 Status: OK