Package: timecourse Version: 1.79.0 Command: /Library/Frameworks/R.framework/Resources/bin/R CMD check --install=check:timecourse.install-out.txt --library=/Library/Frameworks/R.framework/Resources/library --no-vignettes --timings timecourse_1.79.0.tar.gz StartedAt: 2025-02-12 23:51:53 -0500 (Wed, 12 Feb 2025) EndedAt: 2025-02-12 23:52:44 -0500 (Wed, 12 Feb 2025) EllapsedTime: 51.7 seconds RetCode: 0 Status: OK CheckDir: timecourse.Rcheck Warnings: 0