Package: timecourse Version: 1.79.0 Command: /Library/Frameworks/R.framework/Resources/bin/R CMD INSTALL timecourse StartedAt: 2025-02-09 15:07:23 -0500 (Sun, 09 Feb 2025) EndedAt: 2025-02-09 15:07:52 -0500 (Sun, 09 Feb 2025) EllapsedTime: 28.8 seconds RetCode: 0 Status: OK