Package: timecourse Version: 1.79.0 Command: chmod a+r timecourse -R && E:\biocbuild\bbs-3.21-bioc\R\bin\R.exe CMD build --keep-empty-dirs --no-resave-data timecourse StartedAt: 2025-02-09 22:06:23 -0500 (Sun, 09 Feb 2025) EndedAt: 2025-02-09 22:06:52 -0500 (Sun, 09 Feb 2025) EllapsedTime: 28.5 seconds RetCode: 0 Status: OK PackageFile: timecourse_1.79.0.tar.gz PackageFileSize: 712.9 KiB