Package: timecourse Version: 1.79.0 Command: E:\biocbuild\bbs-3.21-bioc\R\bin\R.exe CMD INSTALL timecourse StartedAt: 2025-02-09 15:28:22 -0500 (Sun, 09 Feb 2025) EndedAt: 2025-02-09 15:28:40 -0500 (Sun, 09 Feb 2025) EllapsedTime: 18.0 seconds RetCode: 0 Status: OK