Package: timescape Version: 1.31.0 Command: /Library/Frameworks/R.framework/Resources/bin/R CMD build --keep-empty-dirs --no-resave-data timescape StartedAt: 2025-02-09 17:48:58 -0500 (Sun, 09 Feb 2025) EndedAt: 2025-02-09 17:49:01 -0500 (Sun, 09 Feb 2025) EllapsedTime: 3.0 seconds RetCode: 0 Status: OK PackageFile: timescape_1.31.0.tar.gz PackageFileSize: 672.5 KiB