Package: timescape Version: 1.31.0 Command: /home/biocbuild/R/R/bin/R CMD build --keep-empty-dirs --no-resave-data timescape StartedAt: 2025-01-28 02:55:59 -0000 (Tue, 28 Jan 2025) EndedAt: 2025-01-28 02:56:06 -0000 (Tue, 28 Jan 2025) EllapsedTime: 7.0 seconds RetCode: 0 Status: OK PackageFile: timescape_1.31.0.tar.gz PackageFileSize: 777.7 KiB