Package: timescape Version: 1.31.0 Command: /home/biocbuild/R/R/bin/R CMD INSTALL timescape StartedAt: 2025-01-29 20:09:16 -0000 (Wed, 29 Jan 2025) EndedAt: 2025-01-29 20:09:18 -0000 (Wed, 29 Jan 2025) EllapsedTime: 1.9 seconds RetCode: 0 Status: OK