Package: timescape Version: 1.31.0 Command: rm -rf timescape.buildbin-libdir && mkdir timescape.buildbin-libdir && /Users/biocbuild/BBS/utils/build-universal.sh timescape_1.31.0.tar.gz /Library/Frameworks/R.framework/Resources/bin/R timescape.buildbin-libdir StartedAt: 2025-02-13 01:02:50 -0500 (Thu, 13 Feb 2025) EndedAt: 2025-02-13 01:02:55 -0500 (Thu, 13 Feb 2025) EllapsedTime: 4.6 seconds RetCode: 0 Status: OK PackageFile: timescape_1.31.0.tgz PackageFileSize: 477.8 KiB