Package: timescape Version: 1.31.0 Command: /Library/Frameworks/R.framework/Resources/bin/R CMD check --install=check:timescape.install-out.txt --library=/Library/Frameworks/R.framework/Resources/library --no-vignettes --timings timescape_1.31.0.tar.gz StartedAt: 2025-02-10 00:07:47 -0500 (Mon, 10 Feb 2025) EndedAt: 2025-02-10 00:08:13 -0500 (Mon, 10 Feb 2025) EllapsedTime: 26.4 seconds RetCode: 0 Status: WARNINGS CheckDir: timescape.Rcheck Warnings: 1