Package: timescape Version: 1.31.0 Command: chmod a+r timescape -R && E:\biocbuild\bbs-3.21-bioc\R\bin\R.exe CMD build --keep-empty-dirs --no-resave-data timescape StartedAt: 2025-02-09 22:06:29 -0500 (Sun, 09 Feb 2025) EndedAt: 2025-02-09 22:06:42 -0500 (Sun, 09 Feb 2025) EllapsedTime: 13.0 seconds RetCode: 0 Status: OK PackageFile: timescape_1.31.0.tar.gz PackageFileSize: 673.6 KiB