Package: timescape Version: 1.31.0 Command: E:\biocbuild\bbs-3.21-bioc\R\bin\R.exe CMD INSTALL timescape StartedAt: 2025-02-09 15:49:31 -0500 (Sun, 09 Feb 2025) EndedAt: 2025-02-09 15:49:45 -0500 (Sun, 09 Feb 2025) EllapsedTime: 13.7 seconds RetCode: 0 Status: OK