Package: tkWidgets Version: 1.85.0 Command: /Library/Frameworks/R.framework/Resources/bin/R CMD check --install=check:tkWidgets.install-out.txt --library=/Library/Frameworks/R.framework/Resources/library --no-vignettes --timings tkWidgets_1.85.0.tar.gz StartedAt: 2025-02-10 00:08:11 -0500 (Mon, 10 Feb 2025) EndedAt: 2025-02-10 00:09:04 -0500 (Mon, 10 Feb 2025) EllapsedTime: 52.8 seconds RetCode: 0 Status: OK CheckDir: tkWidgets.Rcheck Warnings: 0