Package: tkWidgets Version: 1.85.0 Command: /home/biocbuild/bbs-3.21-bioc/R/bin/R CMD build --keep-empty-dirs --no-resave-data tkWidgets StartedAt: 2025-02-09 19:37:02 -0500 (Sun, 09 Feb 2025) EndedAt: 2025-02-09 19:37:13 -0500 (Sun, 09 Feb 2025) EllapsedTime: 11.0 seconds RetCode: 0 Status: OK PackageFile: tkWidgets_1.85.0.tar.gz PackageFileSize: 477.5 KiB