Package: tkWidgets Version: 1.85.0 Command: /home/biocbuild/bbs-3.21-bioc/R/bin/R CMD INSTALL tkWidgets StartedAt: 2025-02-12 15:06:01 -0500 (Wed, 12 Feb 2025) EndedAt: 2025-02-12 15:06:08 -0500 (Wed, 12 Feb 2025) EllapsedTime: 6.7 seconds RetCode: 0 Status: OK