Package: tkWidgets Version: 1.85.0 Command: rm -rf tkWidgets.buildbin-libdir && mkdir tkWidgets.buildbin-libdir && E:\biocbuild\bbs-3.21-bioc\R\bin\R.exe CMD INSTALL --build --library=tkWidgets.buildbin-libdir tkWidgets_1.85.0.tar.gz StartedAt: 2025-02-13 09:03:30 -0500 (Thu, 13 Feb 2025) EndedAt: 2025-02-13 09:04:06 -0500 (Thu, 13 Feb 2025) EllapsedTime: 35.8 seconds RetCode: 0 Status: OK PackageFile: tkWidgets_1.85.0.zip PackageFileSize: 517.3 KiB