Package: tkWidgets Version: 1.85.0 Command: E:\biocbuild\bbs-3.21-bioc\R\bin\R.exe CMD INSTALL tkWidgets StartedAt: 2025-02-09 15:28:10 -0500 (Sun, 09 Feb 2025) EndedAt: 2025-02-09 15:28:55 -0500 (Sun, 09 Feb 2025) EllapsedTime: 44.8 seconds RetCode: 0 Status: OK