Package: tomoda Version: 1.17.0 Command: /Library/Frameworks/R.framework/Resources/bin/R CMD check --install=check:tomoda.install-out.txt --library=/Library/Frameworks/R.framework/Resources/library --no-vignettes --timings tomoda_1.17.0.tar.gz StartedAt: 2025-02-03 22:22:04 -0500 (Mon, 03 Feb 2025) EndedAt: 2025-02-03 22:24:15 -0500 (Mon, 03 Feb 2025) EllapsedTime: 130.6 seconds RetCode: 0 Status: OK CheckDir: tomoda.Rcheck Warnings: 0