Package: tomoda Version: 1.17.0 Command: /Library/Frameworks/R.framework/Resources/bin/R CMD INSTALL tomoda StartedAt: 2025-02-09 15:06:35 -0500 (Sun, 09 Feb 2025) EndedAt: 2025-02-09 15:06:46 -0500 (Sun, 09 Feb 2025) EllapsedTime: 11.1 seconds RetCode: 0 Status: OK