Package: tomoda Version: 1.17.0 Command: /Library/Frameworks/R.framework/Resources/bin/R CMD check --install=check:tomoda.install-out.txt --library=/Library/Frameworks/R.framework/Resources/library --no-vignettes --timings tomoda_1.17.0.tar.gz StartedAt: 2025-02-10 00:08:55 -0500 (Mon, 10 Feb 2025) EndedAt: 2025-02-10 00:15:38 -0500 (Mon, 10 Feb 2025) EllapsedTime: 402.9 seconds RetCode: 0 Status: OK CheckDir: tomoda.Rcheck Warnings: 0