Package: tomoda Version: 1.17.0 Command: /Library/Frameworks/R.framework/Resources/bin/R CMD INSTALL tomoda StartedAt: 2025-02-03 15:15:15 -0500 (Mon, 03 Feb 2025) EndedAt: 2025-02-03 15:15:50 -0500 (Mon, 03 Feb 2025) EllapsedTime: 34.8 seconds RetCode: 0 Status: OK