Package: tomoda Version: 1.17.0 Command: /home/biocbuild/bbs-3.21-bioc/R/bin/R CMD build --keep-empty-dirs --no-resave-data tomoda StartedAt: 2025-02-09 19:37:27 -0500 (Sun, 09 Feb 2025) EndedAt: 2025-02-09 19:38:50 -0500 (Sun, 09 Feb 2025) EllapsedTime: 83.1 seconds RetCode: 0 Status: OK PackageFile: tomoda_1.17.0.tar.gz PackageFileSize: 2.867 MiB