Package: tomoda Version: 1.17.0 Command: /home/biocbuild/bbs-3.21-bioc/R/bin/R CMD check --install=check:tomoda.install-out.txt --library=/home/biocbuild/bbs-3.21-bioc/R/site-library --timings tomoda_1.17.0.tar.gz StartedAt: 2025-02-04 03:31:29 -0500 (Tue, 04 Feb 2025) EndedAt: 2025-02-04 03:38:33 -0500 (Tue, 04 Feb 2025) EllapsedTime: 424.6 seconds RetCode: 0 Status: OK CheckDir: tomoda.Rcheck Warnings: 0