Package: tomoda Version: 1.17.0 Command: rm -rf tomoda.buildbin-libdir && mkdir tomoda.buildbin-libdir && E:\biocbuild\bbs-3.21-bioc\R\bin\R.exe CMD INSTALL --build --library=tomoda.buildbin-libdir tomoda_1.17.0.tar.gz StartedAt: 2025-02-10 08:53:00 -0500 (Mon, 10 Feb 2025) EndedAt: 2025-02-10 08:53:34 -0500 (Mon, 10 Feb 2025) EllapsedTime: 34.1 seconds RetCode: 0 Status: OK PackageFile: tomoda_1.17.0.zip PackageFileSize: 1.981 MiB