Package: tomoda Version: 1.17.0 Command: chmod a+r tomoda -R && E:\biocbuild\bbs-3.21-bioc\R\bin\R.exe CMD build --keep-empty-dirs --no-resave-data tomoda StartedAt: 2025-02-09 22:07:16 -0500 (Sun, 09 Feb 2025) EndedAt: 2025-02-09 22:08:59 -0500 (Sun, 09 Feb 2025) EllapsedTime: 102.6 seconds RetCode: 0 Status: OK PackageFile: tomoda_1.17.0.tar.gz PackageFileSize: 1.918 MiB