Package: tomoda Version: 1.17.0 Command: E:\biocbuild\bbs-3.21-bioc\R\bin\R.exe CMD check --no-multiarch --install=check:tomoda.install-out.txt --library=E:\biocbuild\bbs-3.21-bioc\R\library --no-vignettes --timings tomoda_1.17.0.tar.gz StartedAt: 2025-02-04 06:40:25 -0500 (Tue, 04 Feb 2025) EndedAt: 2025-02-04 06:47:16 -0500 (Tue, 04 Feb 2025) EllapsedTime: 411.6 seconds RetCode: 0 Status: OK CheckDir: tomoda.Rcheck Warnings: 0