Package: topGO Version: 2.59.0 Command: /Library/Frameworks/R.framework/Resources/bin/R CMD build --keep-empty-dirs --no-resave-data topGO StartedAt: 2025-02-10 17:49:01 -0500 (Mon, 10 Feb 2025) EndedAt: 2025-02-10 17:49:53 -0500 (Mon, 10 Feb 2025) EllapsedTime: 52.6 seconds RetCode: 0 Status: OK PackageFile: topGO_2.59.0.tar.gz PackageFileSize: 1.907 MiB