Package: topGO Version: 2.59.0 Command: /Library/Frameworks/R.framework/Resources/bin/R CMD INSTALL topGO StartedAt: 2025-02-10 15:10:01 -0500 (Mon, 10 Feb 2025) EndedAt: 2025-02-10 15:10:08 -0500 (Mon, 10 Feb 2025) EllapsedTime: 7.5 seconds RetCode: 0 Status: OK