Package: topGO Version: 2.59.0 Command: /home/biocbuild/R/R/bin/R CMD build --keep-empty-dirs --no-resave-data topGO StartedAt: 2025-01-28 02:57:52 -0000 (Tue, 28 Jan 2025) EndedAt: 2025-01-28 03:00:45 -0000 (Tue, 28 Jan 2025) EllapsedTime: 173.1 seconds RetCode: 0 Status: OK PackageFile: topGO_2.59.0.tar.gz PackageFileSize: 1.896 MiB