Package: topGO Version: 2.59.0 Command: /home/biocbuild/bbs-3.21-bioc/R/bin/R CMD check --install=check:topGO.install-out.txt --library=/home/biocbuild/bbs-3.21-bioc/R/site-library --timings topGO_2.59.0.tar.gz StartedAt: 2025-02-10 03:26:01 -0500 (Mon, 10 Feb 2025) EndedAt: 2025-02-10 03:29:56 -0500 (Mon, 10 Feb 2025) EllapsedTime: 234.3 seconds RetCode: 0 Status: WARNINGS CheckDir: topGO.Rcheck Warnings: 1