Package: topGO Version: 2.59.0 Command: /home/biocbuild/bbs-3.21-bioc/R/bin/R CMD INSTALL topGO StartedAt: 2025-02-09 15:37:44 -0500 (Sun, 09 Feb 2025) EndedAt: 2025-02-09 15:38:03 -0500 (Sun, 09 Feb 2025) EllapsedTime: 19.5 seconds RetCode: 0 Status: OK