Package: topGO Version: 2.59.0 Command: rm -rf topGO.buildbin-libdir && mkdir topGO.buildbin-libdir && E:\biocbuild\bbs-3.21-bioc\R\bin\R.exe CMD INSTALL --build --library=topGO.buildbin-libdir topGO_2.59.0.tar.gz StartedAt: 2025-02-11 09:07:56 -0500 (Tue, 11 Feb 2025) EndedAt: 2025-02-11 09:09:20 -0500 (Tue, 11 Feb 2025) EllapsedTime: 84.3 seconds RetCode: 0 Status: OK PackageFile: topGO_2.59.0.zip PackageFileSize: 1.951 MiB