Package: topGO Version: 2.59.0 Command: chmod a+r topGO -R && E:\biocbuild\bbs-3.21-bioc\R\bin\R.exe CMD build --keep-empty-dirs --no-resave-data topGO StartedAt: 2025-02-10 22:19:40 -0500 (Mon, 10 Feb 2025) EndedAt: 2025-02-10 22:22:47 -0500 (Mon, 10 Feb 2025) EllapsedTime: 187.1 seconds RetCode: 0 Status: OK PackageFile: topGO_2.59.0.tar.gz PackageFileSize: 1.703 MiB