Package: topGO Version: 2.59.0 Command: E:\biocbuild\bbs-3.21-bioc\R\bin\R.exe CMD check --no-multiarch --install=check:topGO.install-out.txt --library=E:\biocbuild\bbs-3.21-bioc\R\library --no-vignettes --timings topGO_2.59.0.tar.gz StartedAt: 2025-02-11 06:28:49 -0500 (Tue, 11 Feb 2025) EndedAt: 2025-02-11 06:31:27 -0500 (Tue, 11 Feb 2025) EllapsedTime: 158.2 seconds RetCode: 0 Status: WARNINGS CheckDir: topGO.Rcheck Warnings: 1